BEGIN:VCALENDAR
VERSION:2.0
PRODID:-//Vicepostulatura postupka mučeništva »Sluge Božje fra Andrija Topić i 49 braće« - ECPv6.15.20//NONSGML v1.0//EN
CALSCALE:GREGORIAN
METHOD:PUBLISH
X-WR-CALNAME:Vicepostulatura postupka mučeništva »Sluge Božje fra Andrija Topić i 49 braće«
X-ORIGINAL-URL:https://pobijeni.info
X-WR-CALDESC:Događaji za Vicepostulatura postupka mučeništva »Sluge Božje fra Andrija Topić i 49 braće«
REFRESH-INTERVAL;VALUE=DURATION:PT1H
X-Robots-Tag:noindex
X-PUBLISHED-TTL:PT1H
BEGIN:VTIMEZONE
TZID:Europe/Paris
BEGIN:DAYLIGHT
TZOFFSETFROM:+0100
TZOFFSETTO:+0200
TZNAME:CEST
DTSTART:20240331T010000
END:DAYLIGHT
BEGIN:STANDARD
TZOFFSETFROM:+0200
TZOFFSETTO:+0100
TZNAME:CET
DTSTART:20241027T010000
END:STANDARD
BEGIN:DAYLIGHT
TZOFFSETFROM:+0100
TZOFFSETTO:+0200
TZNAME:CEST
DTSTART:20250330T010000
END:DAYLIGHT
BEGIN:STANDARD
TZOFFSETFROM:+0200
TZOFFSETTO:+0100
TZNAME:CET
DTSTART:20251026T010000
END:STANDARD
BEGIN:DAYLIGHT
TZOFFSETFROM:+0100
TZOFFSETTO:+0200
TZNAME:CEST
DTSTART:20260329T010000
END:DAYLIGHT
BEGIN:STANDARD
TZOFFSETFROM:+0200
TZOFFSETTO:+0100
TZNAME:CET
DTSTART:20261025T010000
END:STANDARD
BEGIN:DAYLIGHT
TZOFFSETFROM:+0100
TZOFFSETTO:+0200
TZNAME:CEST
DTSTART:20270328T010000
END:DAYLIGHT
BEGIN:STANDARD
TZOFFSETFROM:+0200
TZOFFSETTO:+0100
TZNAME:CET
DTSTART:20271031T010000
END:STANDARD
END:VTIMEZONE
BEGIN:VEVENT
DTSTART;TZID=Europe/Paris:20251208T080000
DTEND;TZID=Europe/Paris:20260125T170000
DTSTAMP:20260420T000319
CREATED:20251208T134521Z
LAST-MODIFIED:20251208T134715Z
UID:35584-1765180800-1769360400@pobijeni.info
SUMMARY:PRETPLATITE SE NA »STOPAMA POBIJENIH«
DESCRIPTION:Glasilo Vicepostulature Stopama pobijenih izlazi dvaput godišnje\, u siječnju i u srpnju. Govori o 66 ubijenih članova Hercegovačke franjevačke provincije i o ubijenim članovima vjernoga puka Božjega. Možete se na njega pretplatiti kod vašega župnika ili preko podataka u Izdavaštvu. Hvala unaprijed. \nGodišnja pretplata (s poštarinom): BiH 10 KM; HR i EU 11 EUR; CH 11 CHF; SAD 16 USD; Canada 17 CAD
URL:https://pobijeni.info/events/pretplatite-se-na-stopama-pobijenih/
ATTACH;FMTTYPE=image/jpeg:https://pobijeni.info/wp-content/uploads/2019/09/promo-sp.jpg
END:VEVENT
END:VCALENDAR